BEGIN:VCALENDAR
PRODID:-//eluceo/ical//2.0/EN
VERSION:2.0
CALSCALE:GREGORIAN
BEGIN:VEVENT
UID:event-19
DTSTAMP:20260424T145500Z
SUMMARY:Inhousedag Academie voor Wetgeving & Overheidsjuristen
DESCRIPTION:Vrijdag 17 januari 2025 in Den Haag Klimaatverandering\, opvang
  van vluchtelingen\, woningtekort: als jurist bij de Rijksoverheid zet je 
 jouw kennis en expertise in bij dit soort complexe vraagstukken. Samen met
  anderen werk je aan wetten\, regels\, besluiten en adviezen om Nederland 
 eerlijker\, rechtvaardiger en mooier te maken. Is dat iets voor jou? Meld 
 je dan aan voor ons traineeprogramma voor jurist bij de Rijksoverheid\, da
 t pas afgestudeerde rechtenstudenten voorbereidt op een carrière met impa
 ct. Wil je meer weten over de inhoud van dit programma? Kom dan naar onze 
 inhousedagen: deze zijn gepland op vrijdag 17 januari 2025 (in Den Haag) e
 n donderdag 13 februari 2025 (online). Tijdens de inhousedagen vertellen w
 e je alles wat je moet weten over het traineeprogramma en beantwoorden we 
 jouw vragen\, zoals: Wat ga ik leren? Waar ga ik werken? en Wat ga ik daar
  doen? Ook kun je in gesprek gaan met huidige trainees die hun ervaringen 
 graag met je delen. Enthousiast geworden? Vul via deze link je gegevens in
  en kies de gewenste datum. Wees er snel bij\, om zeker te zijn van een pl
 ek!
DTSTART:20250117T123000Z
DTEND:20250117T160000Z
END:VEVENT
BEGIN:VTIMEZONE
TZID:UTC
BEGIN:STANDARD
DTSTART:20250117T123000
TZNAME:UTC
TZOFFSETTO:+0000
TZOFFSETFROM:+0000
END:STANDARD
END:VTIMEZONE
END:VCALENDAR
